BEGIN:VCALENDAR
VERSION:2.0
METHOD:PUBLISH
PRODID:-//Agenda.ad//NONSGML v1.0//EN
BEGIN:VEVENT
CLASS:PUBLIC
UID:352a2f988251b94ae6ea334026b16131@agenda.ad
DTSTAMP:20260424T082338Z
DTSTART:20191124T230000Z
DTEND:20191124T230000Z
SUMMARY:Taller de decoraci&oacute; de Nadal -&nbsp;Nadal en flor
DESCRIPTION: Dilluns 18 i dilluns 25 de novembre.\n\nMés informaci
 ó\nhttps://www.agenda.ad/activitat/escaldes-engordany/curso
 s-i-tallers/taller-de-decoracio-de-nadal- nadal-en-flor\n\n
 \nOrganitza\nComú d'Escaldes-Engordany
LOCATION:Taller tèxtil i de vidre
SEQUENCE:0
TRANSP:OPAQUE
X-ALT-DESC;FMTTYPE=text/html:<!DOCTYPE HTML PUBLIC "-//W3C//DTD HTML 3.2//EN"><HTML><HEAD
 ><TITLE></TITLE></HEAD><BODY><FONT FACE="Arial" SIZE=2><stro
 ng>&nbsp;D</strong><span>illuns 18 i dilluns 25 de novembre.
 </span><br/><br/><b>Més informació</b><br/><a href="https:
 //www.agenda.ad/activitat/escaldes-engordany/cursos-i-taller
 s/taller-de-decoracio-de-nadal- nadal-en-flor">https://www.
 agenda.ad/activitat/escaldes-engordany/cursos-i-tallers/tall
 er-de-decoracio-de-nadal- nadal-en-flor</a><br/><br/><br/><
 b>Organitza</b><br/>Comú d'Escaldes-Engordany</FONT></BODY>
 </HTML>
END:VEVENT
END:VCALENDAR